BEGIN:VCALENDAR
VERSION:2.0
PRODID:-//Healthy Minds Philly® - ECPv6.15.18//NONSGML v1.0//EN
CALSCALE:GREGORIAN
METHOD:PUBLISH
X-WR-CALNAME:Healthy Minds Philly®
X-ORIGINAL-URL:https://healthymindsphilly.org/dev
X-WR-CALDESC:Events for Healthy Minds Philly®
REFRESH-INTERVAL;VALUE=DURATION:PT1H
X-Robots-Tag:noindex
X-PUBLISHED-TTL:PT1H
BEGIN:VTIMEZONE
TZID:America/New_York
BEGIN:DAYLIGHT
TZOFFSETFROM:-0500
TZOFFSETTO:-0400
TZNAME:EDT
DTSTART:20220313T070000
END:DAYLIGHT
BEGIN:STANDARD
TZOFFSETFROM:-0400
TZOFFSETTO:-0500
TZNAME:EST
DTSTART:20221106T060000
END:STANDARD
BEGIN:DAYLIGHT
TZOFFSETFROM:-0500
TZOFFSETTO:-0400
TZNAME:EDT
DTSTART:20230312T070000
END:DAYLIGHT
BEGIN:STANDARD
TZOFFSETFROM:-0400
TZOFFSETTO:-0500
TZNAME:EST
DTSTART:20231105T060000
END:STANDARD
BEGIN:DAYLIGHT
TZOFFSETFROM:-0500
TZOFFSETTO:-0400
TZNAME:EDT
DTSTART:20240310T070000
END:DAYLIGHT
BEGIN:STANDARD
TZOFFSETFROM:-0400
TZOFFSETTO:-0500
TZNAME:EST
DTSTART:20241103T060000
END:STANDARD
END:VTIMEZONE
BEGIN:VEVENT
DTSTART;TZID=America/New_York:20230421T080000
DTEND;TZID=America/New_York:20230421T170000
DTSTAMP:20260422T014928
CREATED:20230421T135254Z
LAST-MODIFIED:20230421T135254Z
UID:10000055-1682064000-1682096400@healthymindsphilly.org
SUMMARY:Live Music at King of Prussia Town Center
DESCRIPTION:Join us outdoors every Thursday evening from April – October to enjoy local\, live entertainment on the green!\nFind the performance schedule below.\nAPRIL\n4/20: TIM WILLIAMS 4-PIECE BAND\n4/27: KAT RIVERS DUO\nMAY\n5/4: TOPAZ\n5/11: CARMEN TOMASSETTI\n5/18: CASTLES IN THE SKY\n5/25: ANTHONY COSTELLO\nJUNE\n6/1: JOE MIRALLES\n6/8: TOPAZ\n6/15: JOE MIRALLES\n6/22: KATELYN CHRISTINE\n6/29: ONE HOTMESS DUO\nJULY\n7/6: TIM WILLIAMS BAND\n7/13: JOE MIRALLES\n7/20: CHRISTIAN YEAGER\n7/27: SUNSHINE JONES\nAUGUST\n8/3: ONE HOTMESS DUO\n8/10: KAT RIVERS DUO\n8/17: ANTHONY COSTELLO\n8/24: ADAM MCHUE\n8/31: SUNSHINE JONES\nSEPTEMBER\n9/7: KATELYN CHRISTINE\n9/14: JIMI KENRICK\n9/21: TONY ALOSI\n9/28: RYAN SHUBERT\nOCTOBER:\n10/5: CARMEN TOMASSETTI\n10/12: ANTHEM ARCADE\n10/19: GREG SNYDER DUO\n10/26: TONY ALOSI\nIn case of inclement weather\, the performance will be canceled.
URL:https://healthymindsphilly.org/dev/event/live-music-at-king-of-prussia-town-center/
LOCATION:King of Prussia Town Center\, 155 Village Drive\, King of Prussia\, PA\, 19406\, United States
CATEGORIES:Entertainment
ATTACH;FMTTYPE=image/jpeg:https://healthymindsphilly.org/dev/wp-content/uploads/2023/04/1687401.jpg
ORGANIZER;CN="King of Prussia Town Center":MAILTO:laurynn@cashmanandassociates.com
END:VEVENT
BEGIN:VEVENT
DTSTART;TZID=America/New_York:20230421T100000
DTEND;TZID=America/New_York:20230421T140000
DTSTAMP:20260422T014928
CREATED:20230322T173138Z
LAST-MODIFIED:20230322T173138Z
UID:10000025-1682071200-1682085600@healthymindsphilly.org
SUMMARY:Keys to Success Resource and Job Fair
DESCRIPTION:The Fair is a collaboration of homeless family providers\, community organizations and area employers whose mission is to impact homelessness and poverty through employment\, education and training. \nThe Consortium will provide no-cost Screening for participants.
URL:https://healthymindsphilly.org/dev/event/keys-to-success-resource-and-job-fair/
LOCATION:West Philadelphia YMCA located at 5120 Chestnut Street Philadelphia\, Pa 19131 .\, 5120 Chestnut Street\, Philadelphia\, PA\, 19131\, United States
CATEGORIES:Community
END:VEVENT
BEGIN:VEVENT
DTSTART;TZID=America/New_York:20230421T173000
DTEND;TZID=America/New_York:20230421T200000
DTSTAMP:20260422T014928
CREATED:20230419T191955Z
LAST-MODIFIED:20230419T191955Z
UID:10000053-1682098200-1682107200@healthymindsphilly.org
SUMMARY:Trigger at Hank Gathers Rec Center
DESCRIPTION:A documentary depicting the perils of gun violence in Philadelphia. Followed by a discussion on Gun Violence and all the people that it touches.
URL:https://healthymindsphilly.org/dev/event/trigger-at-hank-gathers-rec-center/
CATEGORIES:Community,Entertainment
END:VEVENT
END:VCALENDAR