BEGIN:VCALENDAR
VERSION:2.0
PRODID:-//Healthy Minds Philly® - ECPv6.15.18//NONSGML v1.0//EN
CALSCALE:GREGORIAN
METHOD:PUBLISH
X-WR-CALNAME:Healthy Minds Philly®
X-ORIGINAL-URL:https://healthymindsphilly.org/dev
X-WR-CALDESC:Events for Healthy Minds Philly®
REFRESH-INTERVAL;VALUE=DURATION:PT1H
X-Robots-Tag:noindex
X-PUBLISHED-TTL:PT1H
BEGIN:VTIMEZONE
TZID:America/New_York
BEGIN:DAYLIGHT
TZOFFSETFROM:-0500
TZOFFSETTO:-0400
TZNAME:EDT
DTSTART:20220313T070000
END:DAYLIGHT
BEGIN:STANDARD
TZOFFSETFROM:-0400
TZOFFSETTO:-0500
TZNAME:EST
DTSTART:20221106T060000
END:STANDARD
BEGIN:DAYLIGHT
TZOFFSETFROM:-0500
TZOFFSETTO:-0400
TZNAME:EDT
DTSTART:20230312T070000
END:DAYLIGHT
BEGIN:STANDARD
TZOFFSETFROM:-0400
TZOFFSETTO:-0500
TZNAME:EST
DTSTART:20231105T060000
END:STANDARD
BEGIN:DAYLIGHT
TZOFFSETFROM:-0500
TZOFFSETTO:-0400
TZNAME:EDT
DTSTART:20240310T070000
END:DAYLIGHT
BEGIN:STANDARD
TZOFFSETFROM:-0400
TZOFFSETTO:-0500
TZNAME:EST
DTSTART:20241103T060000
END:STANDARD
END:VTIMEZONE
BEGIN:VEVENT
DTSTART;TZID=America/New_York:20230419T093000
DTEND;TZID=America/New_York:20230419T123000
DTSTAMP:20260422T014941
CREATED:20230713T132435Z
LAST-MODIFIED:20230713T132435Z
UID:10001367-1681896600-1681907400@healthymindsphilly.org
SUMMARY:UrStorytellers Online Storytelling Training
DESCRIPTION:Storytelling is a training facilitated by UrStorytellers in collaboration with the City of Department of Behavioral Health and Intellectual DisAbility Services (DBHIDS). This training is one of many trainings that is approved as a required prerequisite for applicants who want to pursue the goals of becoming a Certified Peer Specialist. Our goal is to inform the recovery and faith-based communities on how to share their stories and in addition to the importance of sharing them in community settings. This training will be 3 hrs. at length\, delivered in a power point format\, and interactive activities enhance this training. After the conclusion of the training\, all participants will receive a certificate of completion.
URL:https://healthymindsphilly.org/dev/event/urstorytellers-online-storytelling-training/2023-04-19/
LOCATION:Online\, United States
CATEGORIES:Storytelling,Training
ORGANIZER;CN="UrStorytellers Foundation Inc":MAILTO:sanders.urstorytellers@gmail.com
END:VEVENT
BEGIN:VEVENT
DTSTART;TZID=America/New_York:20230419T173000
DTEND;TZID=America/New_York:20230419T193000
DTSTAMP:20260422T014941
CREATED:20230713T135557Z
LAST-MODIFIED:20230713T135557Z
UID:10001457-1681925400-1681932600@healthymindsphilly.org
SUMMARY:PDPH SUPHR: Overdose Prevention and Reversal Training
DESCRIPTION:*Trigger Warning*: This training involves detailed discussions of drug use\, overdoses\, and demonstrations on how to use Narcan. If you have any concerns\, please feel free to email SUPHR staff at overdose.prevention@phila.gov \nThis training provides background information and data on opioid use\, Philadelphia’s drug supply\, and overdoses in our city. There is also a detailed description of how to recognize and respond to an opioid-related overdose with naloxone\, or Narcan. The training is approximately 1.5 hours with an additional 15 minutes for questions. \nYou can choose to have Narcan discreetly mailed to you after the training. We aim to prioritize our Narcan supply for those with the least access to Narcan and those most likely to witness an overdose. If you have the resources to acquire Narcan on your own\, please consider going to your local pharmacy to get it.
URL:https://healthymindsphilly.org/dev/event/pdph-suphr-overdose-prevention-and-reversal-training/2023-04-19/
LOCATION:Online\, United States
CATEGORIES:Narcan Training,Training
END:VEVENT
END:VCALENDAR