BEGIN:VCALENDAR
VERSION:2.0
PRODID:-//Healthy Minds Philly® - ECPv6.15.18//NONSGML v1.0//EN
CALSCALE:GREGORIAN
METHOD:PUBLISH
X-WR-CALNAME:Healthy Minds Philly®
X-ORIGINAL-URL:https://healthymindsphilly.org/dev
X-WR-CALDESC:Events for Healthy Minds Philly®
REFRESH-INTERVAL;VALUE=DURATION:PT1H
X-Robots-Tag:noindex
X-PUBLISHED-TTL:PT1H
BEGIN:VTIMEZONE
TZID:America/Halifax
BEGIN:DAYLIGHT
TZOFFSETFROM:-0400
TZOFFSETTO:-0300
TZNAME:ADT
DTSTART:20220313T060000
END:DAYLIGHT
BEGIN:STANDARD
TZOFFSETFROM:-0300
TZOFFSETTO:-0400
TZNAME:AST
DTSTART:20221106T050000
END:STANDARD
BEGIN:DAYLIGHT
TZOFFSETFROM:-0400
TZOFFSETTO:-0300
TZNAME:ADT
DTSTART:20230312T060000
END:DAYLIGHT
BEGIN:STANDARD
TZOFFSETFROM:-0300
TZOFFSETTO:-0400
TZNAME:AST
DTSTART:20231105T050000
END:STANDARD
BEGIN:DAYLIGHT
TZOFFSETFROM:-0400
TZOFFSETTO:-0300
TZNAME:ADT
DTSTART:20240310T060000
END:DAYLIGHT
BEGIN:STANDARD
TZOFFSETFROM:-0300
TZOFFSETTO:-0400
TZNAME:AST
DTSTART:20241103T050000
END:STANDARD
END:VTIMEZONE
BEGIN:VTIMEZONE
TZID:America/New_York
BEGIN:DAYLIGHT
TZOFFSETFROM:-0500
TZOFFSETTO:-0400
TZNAME:EDT
DTSTART:20220313T070000
END:DAYLIGHT
BEGIN:STANDARD
TZOFFSETFROM:-0400
TZOFFSETTO:-0500
TZNAME:EST
DTSTART:20221106T060000
END:STANDARD
BEGIN:DAYLIGHT
TZOFFSETFROM:-0500
TZOFFSETTO:-0400
TZNAME:EDT
DTSTART:20230312T070000
END:DAYLIGHT
BEGIN:STANDARD
TZOFFSETFROM:-0400
TZOFFSETTO:-0500
TZNAME:EST
DTSTART:20231105T060000
END:STANDARD
BEGIN:DAYLIGHT
TZOFFSETFROM:-0500
TZOFFSETTO:-0400
TZNAME:EDT
DTSTART:20240310T070000
END:DAYLIGHT
BEGIN:STANDARD
TZOFFSETFROM:-0400
TZOFFSETTO:-0500
TZNAME:EST
DTSTART:20241103T060000
END:STANDARD
END:VTIMEZONE
BEGIN:VEVENT
DTSTART;TZID=America/Halifax:20230415T103000
DTEND;TZID=America/Halifax:20230416T160000
DTSTAMP:20260422T014942
CREATED:20230417T153051Z
LAST-MODIFIED:20230417T153051Z
UID:10000047-1681554600-1681660800@healthymindsphilly.org
SUMMARY:Cherry Blossom Festival
DESCRIPTION:The Subaru Cherry Blossom Festival is an annual spring celebration of Japanese arts and culture organized by the Japan America Society of Greater Philadelphia\, with tremendous support from title sponsor Subaru of America\, Inc. Featuring a variety of events throughout the city\, the festival brings a taste of Japan to Philadelphia and highlights the beauty of Japanese sakura – the flowering cherry trees that brighten Philly’s parks and streets. \nThe centerpiece event of the festival\, the Sakura Weekend\, is taking place Saturday\, April 15 and Sunday\, April 16\, 10:30 AM – 4 PM at the Horticulture Center and Centennial Arboretum in West Fairmount Park\, Philadelphia. Additional programming will be happening throughout April at different venues\, including a film retrospective at Lightbox Film Center\, cultural demonstrations\, sushi classes\, and seminars. \nThe two-day event features live music\, dance performances\, arts and crafts\, a vendor fair\, and much more. This is a family-friendly event open to everyone!
URL:https://healthymindsphilly.org/dev/event/cherry-blossom-festival/
LOCATION:Fairmount Park Horticulture Center\, 100 North Horticultural Drive\, Philadelphia\, PA\, 19131\, United States
CATEGORIES:Community
ATTACH;FMTTYPE=image/jpeg:https://healthymindsphilly.org/dev/wp-content/uploads/2023/04/1675946.jpg
ORGANIZER;CN="Japan America Society of Greater Philadelphia":MAILTO:info@cashmanandassociates.com
END:VEVENT
BEGIN:VEVENT
DTSTART;TZID=America/New_York:20230416T100000
DTEND;TZID=America/New_York:20230416T160000
DTSTAMP:20260422T014942
CREATED:20230404T184444Z
LAST-MODIFIED:20230404T184444Z
UID:10000040-1681639200-1681660800@healthymindsphilly.org
SUMMARY:Autism Acceptance Day at the Philadelphia Zoo
DESCRIPTION:An Autism Resource Fair will be held at the Philadelphia Zoo with Autism Activist Dina Buno. \nChild Guidance Resource Centers will be on site providing free mental health screenings and information about Autism services.
URL:https://healthymindsphilly.org/dev/event/autism-acceptance-day-at-the-philadelphia-zoo/
LOCATION:Philadelphia Zoo\, 3400 W. Girard Ave\, Philadelphia\, PA\, 19104\, United States
CATEGORIES:Autism
ATTACH;FMTTYPE=image/png:https://healthymindsphilly.org/dev/wp-content/uploads/2023/04/Zoo.png
ORGANIZER;CN="Autism Society of Greater Philadelphia":MAILTO:Questions?Autismsocietyphila@verizon.net
END:VEVENT
END:VCALENDAR