BEGIN:VCALENDAR
VERSION:2.0
PRODID:-//Healthy Minds Philly® - ECPv6.15.18//NONSGML v1.0//EN
CALSCALE:GREGORIAN
METHOD:PUBLISH
X-WR-CALNAME:Healthy Minds Philly®
X-ORIGINAL-URL:https://healthymindsphilly.org/dev
X-WR-CALDESC:Events for Healthy Minds Philly®
REFRESH-INTERVAL;VALUE=DURATION:PT1H
X-Robots-Tag:noindex
X-PUBLISHED-TTL:PT1H
BEGIN:VTIMEZONE
TZID:America/New_York
BEGIN:DAYLIGHT
TZOFFSETFROM:-0500
TZOFFSETTO:-0400
TZNAME:EDT
DTSTART:20220313T070000
END:DAYLIGHT
BEGIN:STANDARD
TZOFFSETFROM:-0400
TZOFFSETTO:-0500
TZNAME:EST
DTSTART:20221106T060000
END:STANDARD
BEGIN:DAYLIGHT
TZOFFSETFROM:-0500
TZOFFSETTO:-0400
TZNAME:EDT
DTSTART:20230312T070000
END:DAYLIGHT
BEGIN:STANDARD
TZOFFSETFROM:-0400
TZOFFSETTO:-0500
TZNAME:EST
DTSTART:20231105T060000
END:STANDARD
BEGIN:DAYLIGHT
TZOFFSETFROM:-0500
TZOFFSETTO:-0400
TZNAME:EDT
DTSTART:20240310T070000
END:DAYLIGHT
BEGIN:STANDARD
TZOFFSETFROM:-0400
TZOFFSETTO:-0500
TZNAME:EST
DTSTART:20241103T060000
END:STANDARD
END:VTIMEZONE
BEGIN:VTIMEZONE
TZID:America/Halifax
BEGIN:DAYLIGHT
TZOFFSETFROM:-0400
TZOFFSETTO:-0300
TZNAME:ADT
DTSTART:20220313T060000
END:DAYLIGHT
BEGIN:STANDARD
TZOFFSETFROM:-0300
TZOFFSETTO:-0400
TZNAME:AST
DTSTART:20221106T050000
END:STANDARD
BEGIN:DAYLIGHT
TZOFFSETFROM:-0400
TZOFFSETTO:-0300
TZNAME:ADT
DTSTART:20230312T060000
END:DAYLIGHT
BEGIN:STANDARD
TZOFFSETFROM:-0300
TZOFFSETTO:-0400
TZNAME:AST
DTSTART:20231105T050000
END:STANDARD
BEGIN:DAYLIGHT
TZOFFSETFROM:-0400
TZOFFSETTO:-0300
TZNAME:ADT
DTSTART:20240310T060000
END:DAYLIGHT
BEGIN:STANDARD
TZOFFSETFROM:-0300
TZOFFSETTO:-0400
TZNAME:AST
DTSTART:20241103T050000
END:STANDARD
END:VTIMEZONE
BEGIN:VEVENT
DTSTART;TZID=America/New_York:20230415T100000
DTEND;TZID=America/New_York:20230415T140000
DTSTAMP:20260422T014938
CREATED:20230328T155358Z
LAST-MODIFIED:20230406T203348Z
UID:10000028-1681552800-1681567200@healthymindsphilly.org
SUMMARY:Ready\, Set....Pitch (Job Fair)
DESCRIPTION:A Job Readiness Fair for Youth & Young Adults Ages 14-24 \nThis event will support youth as they prepare for opportunities in the city through professional development resources\, workshops\, free headshots\, scholarship and internship opportunities\, & a pitch competition! Our workshop topics include Interview Skills\, Resume Tips\, and Financial Literacy.
URL:https://healthymindsphilly.org/dev/event/ready-set-pitch-job-fair/
LOCATION:440 North Broad Street Philadelphia PA 19130\, 440 North Broad Street - Atrium\, Philadelphia\, PA\, 19130\, United States
CATEGORIES:Community,Youth
ORGANIZER;CN="Philadelphia School District":MAILTO:nsabatino@philasd.org
END:VEVENT
BEGIN:VEVENT
DTSTART;TZID=America/Halifax:20230415T103000
DTEND;TZID=America/Halifax:20230416T160000
DTSTAMP:20260422T014938
CREATED:20230417T153051Z
LAST-MODIFIED:20230417T153051Z
UID:10000047-1681554600-1681660800@healthymindsphilly.org
SUMMARY:Cherry Blossom Festival
DESCRIPTION:The Subaru Cherry Blossom Festival is an annual spring celebration of Japanese arts and culture organized by the Japan America Society of Greater Philadelphia\, with tremendous support from title sponsor Subaru of America\, Inc. Featuring a variety of events throughout the city\, the festival brings a taste of Japan to Philadelphia and highlights the beauty of Japanese sakura – the flowering cherry trees that brighten Philly’s parks and streets. \nThe centerpiece event of the festival\, the Sakura Weekend\, is taking place Saturday\, April 15 and Sunday\, April 16\, 10:30 AM – 4 PM at the Horticulture Center and Centennial Arboretum in West Fairmount Park\, Philadelphia. Additional programming will be happening throughout April at different venues\, including a film retrospective at Lightbox Film Center\, cultural demonstrations\, sushi classes\, and seminars. \nThe two-day event features live music\, dance performances\, arts and crafts\, a vendor fair\, and much more. This is a family-friendly event open to everyone!
URL:https://healthymindsphilly.org/dev/event/cherry-blossom-festival/
LOCATION:Fairmount Park Horticulture Center\, 100 North Horticultural Drive\, Philadelphia\, PA\, 19131\, United States
CATEGORIES:Community
ATTACH;FMTTYPE=image/jpeg:https://healthymindsphilly.org/dev/wp-content/uploads/2023/04/1675946.jpg
ORGANIZER;CN="Japan America Society of Greater Philadelphia":MAILTO:info@cashmanandassociates.com
END:VEVENT
BEGIN:VEVENT
DTSTART;TZID=America/New_York:20230415T120000
DTEND;TZID=America/New_York:20230415T170000
DTSTAMP:20260422T014938
CREATED:20230713T140650Z
LAST-MODIFIED:20230713T140650Z
UID:10001488-1681560000-1681578000@healthymindsphilly.org
SUMMARY:Saturday Afternoon Respite
DESCRIPTION:Caring for a child with behavioral health needs can be demanding. Take a break. Respite care is short-term care for children ages 6-17. Children with a behavioral health diagnosis are eligible for short-term care.
URL:https://healthymindsphilly.org/dev/event/saturday-afternoon-respite-2/2023-04-15/
LOCATION:Shane Victorino Nicetown Boys & Girls Club\, 1721 West Hunting Park Ave\, Philadelphia\, PA\, 19140\, United States
CATEGORIES:Caregiving,Community,Family,Youth
ATTACH;FMTTYPE=image/jpeg:https://healthymindsphilly.org/dev/wp-content/uploads/2023/07/respite.jpg
ORGANIZER;CN="DBHIDS":MAILTO:gabriel.bryant@phila.gov
END:VEVENT
END:VCALENDAR