BEGIN:VCALENDAR
VERSION:2.0
PRODID:-//Healthy Minds Philly® - ECPv6.15.18//NONSGML v1.0//EN
CALSCALE:GREGORIAN
METHOD:PUBLISH
X-WR-CALNAME:Healthy Minds Philly®
X-ORIGINAL-URL:https://healthymindsphilly.org/dev
X-WR-CALDESC:Events for Healthy Minds Philly®
REFRESH-INTERVAL;VALUE=DURATION:PT1H
X-Robots-Tag:noindex
X-PUBLISHED-TTL:PT1H
BEGIN:VTIMEZONE
TZID:America/New_York
BEGIN:DAYLIGHT
TZOFFSETFROM:-0500
TZOFFSETTO:-0400
TZNAME:EDT
DTSTART:20220313T070000
END:DAYLIGHT
BEGIN:STANDARD
TZOFFSETFROM:-0400
TZOFFSETTO:-0500
TZNAME:EST
DTSTART:20221106T060000
END:STANDARD
BEGIN:DAYLIGHT
TZOFFSETFROM:-0500
TZOFFSETTO:-0400
TZNAME:EDT
DTSTART:20230312T070000
END:DAYLIGHT
BEGIN:STANDARD
TZOFFSETFROM:-0400
TZOFFSETTO:-0500
TZNAME:EST
DTSTART:20231105T060000
END:STANDARD
BEGIN:DAYLIGHT
TZOFFSETFROM:-0500
TZOFFSETTO:-0400
TZNAME:EDT
DTSTART:20240310T070000
END:DAYLIGHT
BEGIN:STANDARD
TZOFFSETFROM:-0400
TZOFFSETTO:-0500
TZNAME:EST
DTSTART:20241103T060000
END:STANDARD
END:VTIMEZONE
BEGIN:VEVENT
DTSTART;TZID=America/New_York:20230401T080000
DTEND;TZID=America/New_York:20230401T150000
DTSTAMP:20260422T014942
CREATED:20230713T142132Z
LAST-MODIFIED:20230713T142132Z
UID:10001507-1680336000-1680361200@healthymindsphilly.org
SUMMARY:FREE Annual Disability Awareness Month Event
DESCRIPTION:On Saturday\, April 1\, 2023\, we are hosting a FREE Annual Disability Awareness Month Event. At this event\, we will provide workshops\, resources\, materials and information to support families and people who work with People who have Intellectual Disabilities and Autism. Our purpose for this event is to is to Create a Path to a Full Life. We have a host of Community Partners that will join is to fulfill this goal. Please see the flyer attached. \nIf you have any questions\, please contact:\nMs. Rosalind Ellis\, Director of Disability Awareness Services at 267-252-4530 or\nMaguy Israel\, Event Managing Director at 267-275-3700
URL:https://healthymindsphilly.org/dev/event/free-annual-disability-awareness-month-event/
LOCATION:2001 W. Lehigh Ave Philadelphia\, PA 19132\, 2001 W. Lehigh Ave\, Philadelphia\, PA\, 19132\, United States
CATEGORIES:Community,Intellectual Disabilities
ATTACH;FMTTYPE=image/jpeg:https://healthymindsphilly.org/dev/wp-content/uploads/2023/07/Disabilities-Awareness-Flyer-2023-768x994-1.jpg
END:VEVENT
BEGIN:VEVENT
DTSTART;TZID=America/New_York:20230401T120000
DTEND;TZID=America/New_York:20230401T170000
DTSTAMP:20260422T014942
CREATED:20230713T140650Z
LAST-MODIFIED:20230713T140650Z
UID:10001486-1680350400-1680368400@healthymindsphilly.org
SUMMARY:Saturday Afternoon Respite
DESCRIPTION:Caring for a child with behavioral health needs can be demanding. Take a break. Respite care is short-term care for children ages 6-17. Children with a behavioral health diagnosis are eligible for short-term care.
URL:https://healthymindsphilly.org/dev/event/saturday-afternoon-respite-2/2023-04-01/
LOCATION:Shane Victorino Nicetown Boys & Girls Club\, 1721 West Hunting Park Ave\, Philadelphia\, PA\, 19140\, United States
CATEGORIES:Caregiving,Community,Family,Youth
ATTACH;FMTTYPE=image/jpeg:https://healthymindsphilly.org/dev/wp-content/uploads/2023/07/respite.jpg
ORGANIZER;CN="DBHIDS":MAILTO:gabriel.bryant@phila.gov
END:VEVENT
END:VCALENDAR