BEGIN:VCALENDAR
VERSION:2.0
PRODID:-//Healthy Minds Philly® - ECPv6.15.18//NONSGML v1.0//EN
CALSCALE:GREGORIAN
METHOD:PUBLISH
X-ORIGINAL-URL:https://healthymindsphilly.org/dev
X-WR-CALDESC:Events for Healthy Minds Philly®
REFRESH-INTERVAL;VALUE=DURATION:PT1H
X-Robots-Tag:noindex
X-PUBLISHED-TTL:PT1H
BEGIN:VTIMEZONE
TZID:America/New_York
BEGIN:DAYLIGHT
TZOFFSETFROM:-0500
TZOFFSETTO:-0400
TZNAME:EDT
DTSTART:20220313T070000
END:DAYLIGHT
BEGIN:STANDARD
TZOFFSETFROM:-0400
TZOFFSETTO:-0500
TZNAME:EST
DTSTART:20221106T060000
END:STANDARD
BEGIN:DAYLIGHT
TZOFFSETFROM:-0500
TZOFFSETTO:-0400
TZNAME:EDT
DTSTART:20230312T070000
END:DAYLIGHT
BEGIN:STANDARD
TZOFFSETFROM:-0400
TZOFFSETTO:-0500
TZNAME:EST
DTSTART:20231105T060000
END:STANDARD
BEGIN:DAYLIGHT
TZOFFSETFROM:-0500
TZOFFSETTO:-0400
TZNAME:EDT
DTSTART:20240310T070000
END:DAYLIGHT
BEGIN:STANDARD
TZOFFSETFROM:-0400
TZOFFSETTO:-0500
TZNAME:EST
DTSTART:20241103T060000
END:STANDARD
END:VTIMEZONE
BEGIN:VEVENT
DTSTART;TZID=America/New_York:20230228T093000
DTEND;TZID=America/New_York:20230228T170000
DTSTAMP:20260422T053214
CREATED:20230713T131757Z
LAST-MODIFIED:20230713T131757Z
UID:10001348-1677576600-1677603600@healthymindsphilly.org
SUMMARY:Supporting Youth Recovery CRS Training Program
DESCRIPTION:The Council of Southeast Pennsylvania\, Inc. (The Council) will offer the Supporting Youth Recovery: Peer Paraprofessional Certificate in Supporting Youth Recovery program. Unique to this program is the enhanced version of Pennsylvania Certification Board (PCB) approved standardized Recovery Specialist (RS) Training to prepare peer paraprofessionals to include addressing the unmet behavioral health needs of children\, adolescents\, and young adults with a substance use disorder (SUD) and their families to provide RS to youth and young adults in recovery from a SUD and their families.
URL:https://healthymindsphilly.org/dev/event/supporting-youth-recovery-crs-training-program/2023-02-28/
LOCATION:Philadelphia Recovery Training Center (PRTC)\, 520 N. Columbus Blvd.\, Philadelphia\, PA\, 19123-4229\, United States
CATEGORIES:Addiction,Training,Youth
ATTACH;FMTTYPE=image/jpeg:https://healthymindsphilly.org/dev/wp-content/uploads/2023/07/SYR-Flyer1024_1-768x995-1.jpg
ORGANIZER;CN="Pro-ACT":MAILTO:MWidmeier@councilsepa.org
END:VEVENT
BEGIN:VEVENT
DTSTART;TZID=America/New_York:20230228T120000
DTEND;TZID=America/New_York:20230228T130000
DTSTAMP:20260422T053214
CREATED:20230713T152736Z
LAST-MODIFIED:20230713T152736Z
UID:10001549-1677585600-1677589200@healthymindsphilly.org
SUMMARY:Teen Dating Abuse and Technology
DESCRIPTION:February is Teen Dating Violence Awareness Month. Join the Office of Domestic Violence Strategies and Lutheran Settlement House for a panel discussion on the intersection of technology and online safety within teen dating violence. A Lutheran Settlement House Teen Advocate and Teen Ambassador will share their expertise on how to approach conversations about online safety with teens.
URL:https://healthymindsphilly.org/dev/event/teen-dating-abuse-and-technology/
LOCATION:Online\, United States
CATEGORIES:Family
ATTACH;FMTTYPE=image/png:https://healthymindsphilly.org/dev/wp-content/uploads/2023/07/TDVAM-Event-2-768x768-1.png
END:VEVENT
BEGIN:VEVENT
DTSTART;TZID=America/New_York:20230228T190000
DTEND;TZID=America/New_York:20230228T200000
DTSTAMP:20260422T053214
CREATED:20230713T130141Z
LAST-MODIFIED:20230713T130141Z
UID:10001323-1677610800-1677614400@healthymindsphilly.org
SUMMARY:Survivors of Suicide Loss Support Group [ Online / By Phone ] - Palumbo Rec
DESCRIPTION:The Survivors of Suicide Loss Support Group is a group to help loss survivors cope\, connect\, and work toward healing. Trained group facilitators are suicide loss survivors who know firsthand how difficult it can be to find your way after losing someone to suicide. The group is open to anyone 18 years or older who is grieving a loss due to suicide. \nThe group is free\, confidential\, and meets the second Wednesday of each month. For more information\, please contact philadelphiasptf@phila.gov \nCOVID19 Update: We want to prioritize your health and safety while still offering our support in your grief. In response to the social distancing guidance from the Center for Disease Control\, we will host support groups online and by phone. \nFourth Tuesday of each month\, 7pm (previously held at Palumbo Rec)\nJoin the Zoom Meeting\nMeeting ID: 850 7870 0472\nDial In: (646) 931-3860 and enter Meeting ID: 85078700472#
URL:https://healthymindsphilly.org/dev/event/survivors-of-suicide-loss-support-group-online-by-phone-palumbo-rec-2/2023-02-28/
LOCATION:Online\, United States
CATEGORIES:Support Group
END:VEVENT
END:VCALENDAR