BEGIN:VCALENDAR
VERSION:2.0
PRODID:-//Healthy Minds Philly® - ECPv6.15.18//NONSGML v1.0//EN
CALSCALE:GREGORIAN
METHOD:PUBLISH
X-WR-CALNAME:Healthy Minds Philly®
X-ORIGINAL-URL:https://healthymindsphilly.org/dev
X-WR-CALDESC:Events for Healthy Minds Philly®
REFRESH-INTERVAL;VALUE=DURATION:PT1H
X-Robots-Tag:noindex
X-PUBLISHED-TTL:PT1H
BEGIN:VTIMEZONE
TZID:America/New_York
BEGIN:DAYLIGHT
TZOFFSETFROM:-0500
TZOFFSETTO:-0400
TZNAME:EDT
DTSTART:20220313T070000
END:DAYLIGHT
BEGIN:STANDARD
TZOFFSETFROM:-0400
TZOFFSETTO:-0500
TZNAME:EST
DTSTART:20221106T060000
END:STANDARD
BEGIN:DAYLIGHT
TZOFFSETFROM:-0500
TZOFFSETTO:-0400
TZNAME:EDT
DTSTART:20230312T070000
END:DAYLIGHT
BEGIN:STANDARD
TZOFFSETFROM:-0400
TZOFFSETTO:-0500
TZNAME:EST
DTSTART:20231105T060000
END:STANDARD
BEGIN:DAYLIGHT
TZOFFSETFROM:-0500
TZOFFSETTO:-0400
TZNAME:EDT
DTSTART:20240310T070000
END:DAYLIGHT
BEGIN:STANDARD
TZOFFSETFROM:-0400
TZOFFSETTO:-0500
TZNAME:EST
DTSTART:20241103T060000
END:STANDARD
END:VTIMEZONE
BEGIN:VEVENT
DTSTART;TZID=America/New_York:20230214T093000
DTEND;TZID=America/New_York:20230214T170000
DTSTAMP:20260422T065431
CREATED:20230713T131757Z
LAST-MODIFIED:20230713T131757Z
UID:10001346-1676367000-1676394000@healthymindsphilly.org
SUMMARY:Supporting Youth Recovery CRS Training Program
DESCRIPTION:The Council of Southeast Pennsylvania\, Inc. (The Council) will offer the Supporting Youth Recovery: Peer Paraprofessional Certificate in Supporting Youth Recovery program. Unique to this program is the enhanced version of Pennsylvania Certification Board (PCB) approved standardized Recovery Specialist (RS) Training to prepare peer paraprofessionals to include addressing the unmet behavioral health needs of children\, adolescents\, and young adults with a substance use disorder (SUD) and their families to provide RS to youth and young adults in recovery from a SUD and their families.
URL:https://healthymindsphilly.org/dev/event/supporting-youth-recovery-crs-training-program/2023-02-14/
LOCATION:Philadelphia Recovery Training Center (PRTC)\, 520 N. Columbus Blvd.\, Philadelphia\, PA\, 19123-4229\, United States
CATEGORIES:Addiction,Training,Youth
ATTACH;FMTTYPE=image/jpeg:https://healthymindsphilly.org/dev/wp-content/uploads/2023/07/SYR-Flyer1024_1-768x995-1.jpg
ORGANIZER;CN="Pro-ACT":MAILTO:MWidmeier@councilsepa.org
END:VEVENT
BEGIN:VEVENT
DTSTART;TZID=America/New_York:20230214T130000
DTEND;TZID=America/New_York:20230214T150000
DTSTAMP:20260422T065431
CREATED:20230713T185028Z
LAST-MODIFIED:20230713T185028Z
UID:10001553-1676379600-1676386800@healthymindsphilly.org
SUMMARY:Supporting Youth and Young Adults Training (Sponsored by DBHIDS)
DESCRIPTION:This 8-hour course provides the participants with the necessary knowledge and skills to conduct CPS work with young adults. Its design incorporates young adult learning strategies and principles\, promotes critical thinking\, and self-directed and experiential learning to replicate the practice of recovery and peer support. The course centers on the recovery model of behavioral health and on the core values and practices guiding peer-to-peer emotional and psychological wellness. Providing peer support for young adults requires an additional generational lens as well as an understanding of the intersections that define systems of care. This training structure promotes independence\, advocacy and activism\, self-awareness and reflection and a critical analysis of the impact of social determinants on the health and well-being of self and others.
URL:https://healthymindsphilly.org/dev/event/supporting-youth-and-young-adults-training-sponsored-by-dbhids/2023-02-14/
LOCATION:Mental Health Partnernships\, 833 Chestnut St Suite 1100\, Philadelphia\, PA\, 19107\, United States
CATEGORIES:Community,Event Registration,Mental Health,Peer Specialists,Training,Webinar,Youth
ATTACH;FMTTYPE=image/jpeg:https://healthymindsphilly.org/dev/wp-content/uploads/2023/07/Supporting-Youth-and-Young-Adults-768x432-1.jpg
ORGANIZER;CN="Mental Health Partnerships/Institute at MHP":MAILTO:recovery@mhasp.org
END:VEVENT
END:VCALENDAR