BEGIN:VCALENDAR
VERSION:2.0
PRODID:-//Healthy Minds Philly® - ECPv6.15.18//NONSGML v1.0//EN
CALSCALE:GREGORIAN
METHOD:PUBLISH
X-ORIGINAL-URL:https://healthymindsphilly.org/dev
X-WR-CALDESC:Events for Healthy Minds Philly®
REFRESH-INTERVAL;VALUE=DURATION:PT1H
X-Robots-Tag:noindex
X-PUBLISHED-TTL:PT1H
BEGIN:VTIMEZONE
TZID:America/New_York
BEGIN:DAYLIGHT
TZOFFSETFROM:-0500
TZOFFSETTO:-0400
TZNAME:EDT
DTSTART:20220313T070000
END:DAYLIGHT
BEGIN:STANDARD
TZOFFSETFROM:-0400
TZOFFSETTO:-0500
TZNAME:EST
DTSTART:20221106T060000
END:STANDARD
BEGIN:DAYLIGHT
TZOFFSETFROM:-0500
TZOFFSETTO:-0400
TZNAME:EDT
DTSTART:20230312T070000
END:DAYLIGHT
BEGIN:STANDARD
TZOFFSETFROM:-0400
TZOFFSETTO:-0500
TZNAME:EST
DTSTART:20231105T060000
END:STANDARD
BEGIN:DAYLIGHT
TZOFFSETFROM:-0500
TZOFFSETTO:-0400
TZNAME:EDT
DTSTART:20240310T070000
END:DAYLIGHT
BEGIN:STANDARD
TZOFFSETFROM:-0400
TZOFFSETTO:-0500
TZNAME:EST
DTSTART:20241103T060000
END:STANDARD
END:VTIMEZONE
BEGIN:VEVENT
DTSTART;TZID=America/New_York:20230128T100000
DTEND;TZID=America/New_York:20230128T130000
DTSTAMP:20260422T082759
CREATED:20230713T193007Z
LAST-MODIFIED:20230713T193007Z
UID:10001559-1674900000-1674910800@healthymindsphilly.org
SUMMARY:Sharing the Warmth Bundle Up 2.0
DESCRIPTION:The Philadelphia Sheriff’s Office and Catholic Community Services is hosting a winter coat distribution event January 28\, 2023 from 10am to 1pm. There will be new coats\, hats and gloves for distribution to those who attend the event. Light refreshments will be provided as well as an opportunity to take a free Mental Health Screening assessment provided by DBHIDS and St. Francis and St. Joseph Out-Patient Clinic. Please come and join us!
URL:https://healthymindsphilly.org/dev/event/sharing-the-warmth-bundle-up-2-0/
LOCATION:Philadelphia Sheriff's Office and Catholica Community Services Winter Coat Distribution\, 1926 Grant Ave\, Philadelphia\, PA\, 19115\, United States
ORGANIZER;CN="Ginger Smith":MAILTO:gsmith@chs-adphila.org
END:VEVENT
BEGIN:VEVENT
DTSTART;TZID=America/New_York:20230128T120000
DTEND;TZID=America/New_York:20230128T170000
DTSTAMP:20260422T082759
CREATED:20230713T140650Z
LAST-MODIFIED:20230713T140650Z
UID:10001477-1674907200-1674925200@healthymindsphilly.org
SUMMARY:Saturday Afternoon Respite
DESCRIPTION:Caring for a child with behavioral health needs can be demanding. Take a break. Respite care is short-term care for children ages 6-17. Children with a behavioral health diagnosis are eligible for short-term care.
URL:https://healthymindsphilly.org/dev/event/saturday-afternoon-respite-2/2023-01-28/
LOCATION:Shane Victorino Nicetown Boys & Girls Club\, 1721 West Hunting Park Ave\, Philadelphia\, PA\, 19140\, United States
CATEGORIES:Caregiving,Community,Family,Youth
ATTACH;FMTTYPE=image/jpeg:https://healthymindsphilly.org/dev/wp-content/uploads/2023/07/respite.jpg
ORGANIZER;CN="DBHIDS":MAILTO:gabriel.bryant@phila.gov
END:VEVENT
END:VCALENDAR