BEGIN:VCALENDAR
VERSION:2.0
PRODID:-//Healthy Minds Philly® - ECPv6.15.18//NONSGML v1.0//EN
CALSCALE:GREGORIAN
METHOD:PUBLISH
X-WR-CALNAME:Healthy Minds Philly®
X-ORIGINAL-URL:https://healthymindsphilly.org/dev
X-WR-CALDESC:Events for Healthy Minds Philly®
REFRESH-INTERVAL;VALUE=DURATION:PT1H
X-Robots-Tag:noindex
X-PUBLISHED-TTL:PT1H
BEGIN:VTIMEZONE
TZID:America/New_York
BEGIN:DAYLIGHT
TZOFFSETFROM:-0500
TZOFFSETTO:-0400
TZNAME:EDT
DTSTART:20210314T070000
END:DAYLIGHT
BEGIN:STANDARD
TZOFFSETFROM:-0400
TZOFFSETTO:-0500
TZNAME:EST
DTSTART:20211107T060000
END:STANDARD
BEGIN:DAYLIGHT
TZOFFSETFROM:-0500
TZOFFSETTO:-0400
TZNAME:EDT
DTSTART:20220313T070000
END:DAYLIGHT
BEGIN:STANDARD
TZOFFSETFROM:-0400
TZOFFSETTO:-0500
TZNAME:EST
DTSTART:20221106T060000
END:STANDARD
BEGIN:DAYLIGHT
TZOFFSETFROM:-0500
TZOFFSETTO:-0400
TZNAME:EDT
DTSTART:20230312T070000
END:DAYLIGHT
BEGIN:STANDARD
TZOFFSETFROM:-0400
TZOFFSETTO:-0500
TZNAME:EST
DTSTART:20231105T060000
END:STANDARD
END:VTIMEZONE
BEGIN:VEVENT
DTSTART;TZID=America/New_York:20221221T160000
DTEND;TZID=America/New_York:20221221T170000
DTSTAMP:20260423T121634
CREATED:20230714T121550Z
LAST-MODIFIED:20230714T121550Z
UID:10001961-1671638400-1671642000@healthymindsphilly.org
SUMMARY:Philadelphia Homeless Persons’ Memorial Day
DESCRIPTION:Homeless Persons’ Memorial Day is a national event that takes place annually on or around December 21st\, the first day of winter and longest night of the year. Since the early 1990s\, a coalition of Philadelphia advocates\, providers\, and homeless and formerly homeless persons have organized a gathering to honor the many individuals who have lost their lives and recommit to working to bring an end to homelessness in the city of Philadelphia. \nWe are still gathering names of Philadelphians who experienced homelessness at some point in their lives and died in 2022 (or since last year’s memorial on 12/21/22). \nPlease submit names here or email them to memorial@projecthome.org. You may also contact Wen Epstein-Fisher at 215-320-0846 to submit names. We need to collect all the names for the event by 5PM on Wednesday\, 12/14/2022. \nThank you for helping us make sure we honor the lives of all of those in our community. We look forward to seeing you on December 21. \nThe Homeless Persons’ Memorial Day Planning Committee\nprojecthome.org/memorial
URL:https://healthymindsphilly.org/dev/event/philadelphia-homeless-persons-memorial-day/
LOCATION:Thomas Paine Plaza\, 15th & JFK Boulevard\, Philadelphia\, PA\, 19106\, United States
CATEGORIES:Community,Grief,Mental Health
GEO:39.9535888;-75.1650403
X-APPLE-STRUCTURED-LOCATION;VALUE=URI;X-ADDRESS=Thomas Paine Plaza 15th & JFK Boulevard Philadelphia PA 19106 United States;X-APPLE-RADIUS=500;X-TITLE=15th & JFK Boulevard:geo:-75.1650403,39.9535888
END:VEVENT
END:VCALENDAR