BEGIN:VCALENDAR
VERSION:2.0
PRODID:-//Healthy Minds Philly® - ECPv6.15.18//NONSGML v1.0//EN
CALSCALE:GREGORIAN
METHOD:PUBLISH
X-ORIGINAL-URL:https://healthymindsphilly.org/dev
X-WR-CALDESC:Events for Healthy Minds Philly®
REFRESH-INTERVAL;VALUE=DURATION:PT1H
X-Robots-Tag:noindex
X-PUBLISHED-TTL:PT1H
BEGIN:VTIMEZONE
TZID:America/New_York
BEGIN:DAYLIGHT
TZOFFSETFROM:-0500
TZOFFSETTO:-0400
TZNAME:EDT
DTSTART:20210314T070000
END:DAYLIGHT
BEGIN:STANDARD
TZOFFSETFROM:-0400
TZOFFSETTO:-0500
TZNAME:EST
DTSTART:20211107T060000
END:STANDARD
BEGIN:DAYLIGHT
TZOFFSETFROM:-0500
TZOFFSETTO:-0400
TZNAME:EDT
DTSTART:20220313T070000
END:DAYLIGHT
BEGIN:STANDARD
TZOFFSETFROM:-0400
TZOFFSETTO:-0500
TZNAME:EST
DTSTART:20221106T060000
END:STANDARD
BEGIN:DAYLIGHT
TZOFFSETFROM:-0500
TZOFFSETTO:-0400
TZNAME:EDT
DTSTART:20230312T070000
END:DAYLIGHT
BEGIN:STANDARD
TZOFFSETFROM:-0400
TZOFFSETTO:-0500
TZNAME:EST
DTSTART:20231105T060000
END:STANDARD
END:VTIMEZONE
BEGIN:VEVENT
DTSTART;TZID=America/New_York:20221207T100000
DTEND;TZID=America/New_York:20221207T110000
DTSTAMP:20260424T200434
CREATED:20230714T120146Z
LAST-MODIFIED:20230714T120146Z
UID:10001940-1670407200-1670410800@healthymindsphilly.org
SUMMARY:Yoga for Cancer and Chronic Disease
DESCRIPTION:Virtual Yoga Class \nMindful Movement and Meditation \nHosted by the University of Pennsylvania Health System for patients of the Department of Radiation Oncology at Perelman Center for Advanced Medicine. This is an all-levels yoga class that includes guided mindfulness meditation with yoga movement. \nAudience: Caregivers\, Patients\, Other \nSponsor: Abramson Cancer Center \nJOIN US:\nWednesday December 7th\, 2022\nTime: 10:00 – 11:00 AM EST \nThis class is open to all Penn Medicine cancer patients\, survivors\, and their family. Please contact your Penn Medicine team for the link to join.
URL:https://healthymindsphilly.org/dev/event/yoga-for-cancer-and-chronic-disease/
LOCATION:Online\, United States
CATEGORIES:Community
ORGANIZER;CN="Jessica Pavelka Counseling":MAILTO:hello@jessicapavelkacounseling.com
END:VEVENT
BEGIN:VEVENT
DTSTART;TZID=America/New_York:20221207T170000
DTEND;TZID=America/New_York:20221207T180000
DTSTAMP:20260424T200435
CREATED:20230714T120307Z
LAST-MODIFIED:20230714T120307Z
UID:10001941-1670432400-1670436000@healthymindsphilly.org
SUMMARY:Family Friendly Rittenhouse Square Holiday Tree Lighting Event
DESCRIPTION:Philadelphians near and far are invited to kick off the holiday season at the annual Rittenhouse Square holiday park lighting on Wednesday\, December 7th. Attendees will enjoy a variety of music including performances by the Philly Pops\, the Greater Philadelphia Choral Society\, T-VOCE\, and the String Theory Charter School chorus. Complimentary refreshments will be provided by Parc\, the Rittenhouse Hotel\, and Scarpetta\, as well as free giveaways and selfies with Santa Claus. \nMore than 400 Philadelphia residents typically gather to watch this magical event. The holiday park lights continue to be illuminated every night through the end of December\, courtesy of IBEW Local 98 who will be generously donating their time and expertise to hang and install the lights\, turning Philadelphia’s most beloved square into a winter wonderland. LCN Communications will also be sponsoring the all-ages event.
URL:https://healthymindsphilly.org/dev/event/family-friendly-rittenhouse-square-holiday-tree-lighting-event/
LOCATION:Rittenhouse Square\, Rittenhouse Square\, Philadelphia\, PA\, 19103\, United States
CATEGORIES:Community,Entertainment
ATTACH;FMTTYPE=image/jpeg:https://healthymindsphilly.org/dev/wp-content/uploads/2023/07/1447661-768x442-1.jpg
ORGANIZER;CN="Friends of Rittenhouse Square":MAILTO:josh@friendsofrittenhouse.org
END:VEVENT
END:VCALENDAR