BEGIN:VCALENDAR
VERSION:2.0
PRODID:-//Healthy Minds Philly® - ECPv6.15.18//NONSGML v1.0//EN
CALSCALE:GREGORIAN
METHOD:PUBLISH
X-WR-CALNAME:Healthy Minds Philly®
X-ORIGINAL-URL:https://healthymindsphilly.org/dev
X-WR-CALDESC:Events for Healthy Minds Philly®
REFRESH-INTERVAL;VALUE=DURATION:PT1H
X-Robots-Tag:noindex
X-PUBLISHED-TTL:PT1H
BEGIN:VTIMEZONE
TZID:America/New_York
BEGIN:DAYLIGHT
TZOFFSETFROM:-0500
TZOFFSETTO:-0400
TZNAME:EDT
DTSTART:20210314T070000
END:DAYLIGHT
BEGIN:STANDARD
TZOFFSETFROM:-0400
TZOFFSETTO:-0500
TZNAME:EST
DTSTART:20211107T060000
END:STANDARD
BEGIN:DAYLIGHT
TZOFFSETFROM:-0500
TZOFFSETTO:-0400
TZNAME:EDT
DTSTART:20220313T070000
END:DAYLIGHT
BEGIN:STANDARD
TZOFFSETFROM:-0400
TZOFFSETTO:-0500
TZNAME:EST
DTSTART:20221106T060000
END:STANDARD
BEGIN:DAYLIGHT
TZOFFSETFROM:-0500
TZOFFSETTO:-0400
TZNAME:EDT
DTSTART:20230312T070000
END:DAYLIGHT
BEGIN:STANDARD
TZOFFSETFROM:-0400
TZOFFSETTO:-0500
TZNAME:EST
DTSTART:20231105T060000
END:STANDARD
END:VTIMEZONE
BEGIN:VEVENT
DTSTART;TZID=America/New_York:20221202T100000
DTEND;TZID=America/New_York:20221202T120000
DTSTAMP:20260425T102413
CREATED:20230714T115740Z
LAST-MODIFIED:20230714T115740Z
UID:10001937-1669975200-1669982400@healthymindsphilly.org
SUMMARY:Community Health Outreach Intervention
DESCRIPTION:The Consortium\, Inc.\, University Recovery Center in collaboration with DBHIDS-Mobile Outreach and Recovery Services (MORS)\, and the EMS Alternative Response Unit (AR-2) will provide a community health outreach intervention on the corner of 52nd and Arch Street in a response to recent increase in Fentanyl Overdoses near 52nd and Arch Street . \nInterventions\n* Education on the danger of Fentanyl and other Street Drugs\,\n*Disseminate naloxone and harm reduction information\n*Linkage to treatment for substance use and mental health treatment
URL:https://healthymindsphilly.org/dev/event/community-health-outreach-intervention/
LOCATION:Online\, United States
CATEGORIES:Community
END:VEVENT
END:VCALENDAR