BEGIN:VCALENDAR
VERSION:2.0
PRODID:-//Healthy Minds Philly® - ECPv6.15.18//NONSGML v1.0//EN
CALSCALE:GREGORIAN
METHOD:PUBLISH
X-ORIGINAL-URL:https://healthymindsphilly.org/dev
X-WR-CALDESC:Events for Healthy Minds Philly®
REFRESH-INTERVAL;VALUE=DURATION:PT1H
X-Robots-Tag:noindex
X-PUBLISHED-TTL:PT1H
BEGIN:VTIMEZONE
TZID:America/New_York
BEGIN:DAYLIGHT
TZOFFSETFROM:-0500
TZOFFSETTO:-0400
TZNAME:EDT
DTSTART:20210314T070000
END:DAYLIGHT
BEGIN:STANDARD
TZOFFSETFROM:-0400
TZOFFSETTO:-0500
TZNAME:EST
DTSTART:20211107T060000
END:STANDARD
BEGIN:DAYLIGHT
TZOFFSETFROM:-0500
TZOFFSETTO:-0400
TZNAME:EDT
DTSTART:20220313T070000
END:DAYLIGHT
BEGIN:STANDARD
TZOFFSETFROM:-0400
TZOFFSETTO:-0500
TZNAME:EST
DTSTART:20221106T060000
END:STANDARD
BEGIN:DAYLIGHT
TZOFFSETFROM:-0500
TZOFFSETTO:-0400
TZNAME:EDT
DTSTART:20230312T070000
END:DAYLIGHT
BEGIN:STANDARD
TZOFFSETFROM:-0400
TZOFFSETTO:-0500
TZNAME:EST
DTSTART:20231105T060000
END:STANDARD
END:VTIMEZONE
BEGIN:VEVENT
DTSTART;TZID=America/New_York:20221117T090000
DTEND;TZID=America/New_York:20221117T160000
DTSTAMP:20260425T180454
CREATED:20230714T123530Z
LAST-MODIFIED:20230714T123530Z
UID:10001973-1668675600-1668700800@healthymindsphilly.org
SUMMARY:WRAP II: Facilitator’s Training Sponsored by DBHIDS
DESCRIPTION:Held in-person at: \nMental Health Partnerships\nTraining Room\n833 Chestnut Street\nSuite 1100\nPhiladelphia\, PA 19107 \nWRAP 2 Facilitator is a 30 hour training building on the foundations of Wellness Recovery Action Plan. It will teach participants to facilitate WRAP groups and work with others to develop their own WRAP. Wellness Recovery Action Plan® (WRAP) is an evidence-based practice developed by the Copeland Center for Wellness and Recovery. PRIOR TO ATTENDING THIS TRAINING\, PARTICIPANTS MUST FULFILL THE PREREQUISITE COURSE: INTRODUCTION TO WRAP. This course has a registration cap that will be determined on a first come\, first serve basis
URL:https://healthymindsphilly.org/dev/event/wrap-ii-facilitators-training-sponsored-by-dbhids/2022-11-17/
LOCATION:Mental Health Partnernships\, 833 Chestnut St Suite 1100\, Philadelphia\, PA\, 19107\, United States
CATEGORIES:Community,Event Registration,Peer Specialists,Self Care,Training
ORGANIZER;CN="Mental Health Partnerships/Institute at MHP":MAILTO:recovery@mhasp.org
END:VEVENT
BEGIN:VEVENT
DTSTART;TZID=America/New_York:20221117T130000
DTEND;TZID=America/New_York:20221117T143000
DTSTAMP:20260425T180454
CREATED:20230714T123825Z
LAST-MODIFIED:20230714T123825Z
UID:10001975-1668690000-1668695400@healthymindsphilly.org
SUMMARY:Engaging Males of Color’s (EMOC) 9th Annual International Men’s Day
DESCRIPTION:International Men’s Day is a worldwide intention to recognize\, celebrate\, and honor the positive value men bring to the world\, their families\, and their communities. \nThis year\, DBHIDS’ EMOC will be orchestrating a virtual event set to raise awareness of men’s well-being and specifically highlight the importance of positive role models with the theme\, “Pillars of Hope: How Mentorship Shaped Us.” \nRegister in advance for this event:\nhttps://cbhphilly-org.zoom.us/meeting/register/tJErduyrrT0iHd1fkNGaGl-helF4hH0IrfxU\nAfter registering\, you will receive a confirmation email. \nIf you have any questions\, please email DBHIDS’ Raekwon Burton\, Raekwon.Burton@Phila.Gov
URL:https://healthymindsphilly.org/dev/event/engaging-males-of-colors-emoc-9th-annual-international-mens-day/
LOCATION:Online\, United States
CATEGORIES:Community,Event Registration,Grief,Mental Health,Older Adults,Racial Equality,Self Care,Suicide Prevention,Trauma,Webinar,Youth
END:VEVENT
BEGIN:VEVENT
DTSTART;TZID=America/New_York:20221117T150000
DTEND;TZID=America/New_York:20221117T170000
DTSTAMP:20260425T180454
CREATED:20230714T124010Z
LAST-MODIFIED:20230714T124010Z
UID:10001976-1668697200-1668704400@healthymindsphilly.org
SUMMARY:New Mural Unveiling at The Academy of Natural Sciences
DESCRIPTION:Global Philadelphia Association meets another United Nations Sustainable Development Goal (SDG) with the unveiling of a new public art mural by Miriam Singer\, celebrating and visually representing SDG #6 – Clean Water and Sanitation. The mural unveiling is sponsored by The Academy of Natural Sciences of Drexel University and promotes increased access to safe\, clean water sources and sanitation for all. \nRemarks will be made by Glen Abrams\, Deputy Commissioner\, Philadelphia Water Department\, Saleem Chapman\, Chief Resilience Officer\, City of Philadelphia\, and representatives from Global Philadelphia Association\, The Academy of Natural Sciences\, and more.
URL:https://healthymindsphilly.org/dev/event/new-mural-unveiling-at-the-academy-of-natural-sciences/
LOCATION:The Academy of Natural Science\, 1900 Benjamin Franklin Pkwy\, 1st floor\, Philadelphia\, PA\, 19103\, United States
CATEGORIES:Community
ATTACH;FMTTYPE=image/jpeg:https://healthymindsphilly.org/dev/wp-content/uploads/2023/07/1431920-768x768-1.jpg
END:VEVENT
BEGIN:VEVENT
DTSTART;TZID=America/New_York:20221117T160000
DTEND;TZID=America/New_York:20221117T190000
DTSTAMP:20260425T180454
CREATED:20230714T124223Z
LAST-MODIFIED:20230714T124223Z
UID:10001977-1668700800-1668711600@healthymindsphilly.org
SUMMARY:Addressing Systemic Problems: Taking A Stance Against Gun Violence Philadelphia
DESCRIPTION:The Philadelphia Global Identity Partnership (PGIP) is hosting a fireside chat to have a tough discussion about gun violence in Philly. Join us for a fireside chat titled “Addressing Systemic Problems: Taking A Stance Against Gun Violence Philadelphia” from 5-7:30pm. PGIP will end the night with a happy hour to intentionally network on actionable plans to reduce violence in Philadelphia and the resources needed to implement them. All attendees are encouraged to be prepared to have meaningful discussions on the resources they can access (plans and/or funding) to bring potential initiatives to action. \nSpace is limited\, please RSVP today to reserve a spot!\nhttps://lnkd.in/eHux3xt6 \nCollectively\, the Philadelphia Global Identity Partnership (PGIP) recognizes the negative impact that the rise of violent crimes in Philadelphia has on our ability to attract and retain business\, investment\, talent\, and communities within our region. \nAs a unifying coalition in the region\, PGIP recognizes that we not only have the opportunity\, but we have a responsibility to actively identify and engage in activities that take measurable action in the reduction of violent crimes in our city.
URL:https://healthymindsphilly.org/dev/event/addressing-systemic-problems-taking-a-stance-against-gun-violence-philadelphia/
LOCATION:The Science Center\, The Science Center- 3675 Market Street\, Suite 400\, Philadelphia\, PA\, 19104\, United States
CATEGORIES:Community,Mental Health,Racial Equality,Storytelling,Trauma,Youth
ATTACH;FMTTYPE=image/jpeg:https://healthymindsphilly.org/dev/wp-content/uploads/2023/07/PGIP-FiresideChat-Toolkit-LinkedIn-1-768x402-1.jpg
ORGANIZER;CN="The Philadelphia Global Identity Project":MAILTO:dyshaun@philadelphiaglobalid.org
END:VEVENT
END:VCALENDAR