BEGIN:VCALENDAR
VERSION:2.0
PRODID:-//Healthy Minds Philly® - ECPv6.15.18//NONSGML v1.0//EN
CALSCALE:GREGORIAN
METHOD:PUBLISH
X-ORIGINAL-URL:https://healthymindsphilly.org/dev
X-WR-CALDESC:Events for Healthy Minds Philly®
REFRESH-INTERVAL;VALUE=DURATION:PT1H
X-Robots-Tag:noindex
X-PUBLISHED-TTL:PT1H
BEGIN:VTIMEZONE
TZID:America/New_York
BEGIN:DAYLIGHT
TZOFFSETFROM:-0500
TZOFFSETTO:-0400
TZNAME:EDT
DTSTART:20210314T070000
END:DAYLIGHT
BEGIN:STANDARD
TZOFFSETFROM:-0400
TZOFFSETTO:-0500
TZNAME:EST
DTSTART:20211107T060000
END:STANDARD
BEGIN:DAYLIGHT
TZOFFSETFROM:-0500
TZOFFSETTO:-0400
TZNAME:EDT
DTSTART:20220313T070000
END:DAYLIGHT
BEGIN:STANDARD
TZOFFSETFROM:-0400
TZOFFSETTO:-0500
TZNAME:EST
DTSTART:20221106T060000
END:STANDARD
BEGIN:DAYLIGHT
TZOFFSETFROM:-0500
TZOFFSETTO:-0400
TZNAME:EDT
DTSTART:20230312T070000
END:DAYLIGHT
BEGIN:STANDARD
TZOFFSETFROM:-0400
TZOFFSETTO:-0500
TZNAME:EST
DTSTART:20231105T060000
END:STANDARD
END:VTIMEZONE
BEGIN:VEVENT
DTSTART;TZID=America/New_York:20221116T090000
DTEND;TZID=America/New_York:20221116T160000
DTSTAMP:20260425T180445
CREATED:20230714T123530Z
LAST-MODIFIED:20230714T123530Z
UID:10001972-1668589200-1668614400@healthymindsphilly.org
SUMMARY:WRAP II: Facilitator’s Training Sponsored by DBHIDS
DESCRIPTION:Held in-person at: \nMental Health Partnerships\nTraining Room\n833 Chestnut Street\nSuite 1100\nPhiladelphia\, PA 19107 \nWRAP 2 Facilitator is a 30 hour training building on the foundations of Wellness Recovery Action Plan. It will teach participants to facilitate WRAP groups and work with others to develop their own WRAP. Wellness Recovery Action Plan® (WRAP) is an evidence-based practice developed by the Copeland Center for Wellness and Recovery. PRIOR TO ATTENDING THIS TRAINING\, PARTICIPANTS MUST FULFILL THE PREREQUISITE COURSE: INTRODUCTION TO WRAP. This course has a registration cap that will be determined on a first come\, first serve basis
URL:https://healthymindsphilly.org/dev/event/wrap-ii-facilitators-training-sponsored-by-dbhids/2022-11-16/
LOCATION:Mental Health Partnernships\, 833 Chestnut St Suite 1100\, Philadelphia\, PA\, 19107\, United States
CATEGORIES:Community,Event Registration,Peer Specialists,Self Care,Training
ORGANIZER;CN="Mental Health Partnerships/Institute at MHP":MAILTO:recovery@mhasp.org
END:VEVENT
END:VCALENDAR