BEGIN:VCALENDAR
VERSION:2.0
PRODID:-//Healthy Minds Philly® - ECPv6.15.18//NONSGML v1.0//EN
CALSCALE:GREGORIAN
METHOD:PUBLISH
X-ORIGINAL-URL:https://healthymindsphilly.org/dev
X-WR-CALDESC:Events for Healthy Minds Philly®
REFRESH-INTERVAL;VALUE=DURATION:PT1H
X-Robots-Tag:noindex
X-PUBLISHED-TTL:PT1H
BEGIN:VTIMEZONE
TZID:America/New_York
BEGIN:DAYLIGHT
TZOFFSETFROM:-0500
TZOFFSETTO:-0400
TZNAME:EDT
DTSTART:20210314T070000
END:DAYLIGHT
BEGIN:STANDARD
TZOFFSETFROM:-0400
TZOFFSETTO:-0500
TZNAME:EST
DTSTART:20211107T060000
END:STANDARD
BEGIN:DAYLIGHT
TZOFFSETFROM:-0500
TZOFFSETTO:-0400
TZNAME:EDT
DTSTART:20220313T070000
END:DAYLIGHT
BEGIN:STANDARD
TZOFFSETFROM:-0400
TZOFFSETTO:-0500
TZNAME:EST
DTSTART:20221106T060000
END:STANDARD
BEGIN:DAYLIGHT
TZOFFSETFROM:-0500
TZOFFSETTO:-0400
TZNAME:EDT
DTSTART:20230312T070000
END:DAYLIGHT
BEGIN:STANDARD
TZOFFSETFROM:-0400
TZOFFSETTO:-0500
TZNAME:EST
DTSTART:20231105T060000
END:STANDARD
END:VTIMEZONE
BEGIN:VEVENT
DTSTART;TZID=America/New_York:20221111T093000
DTEND;TZID=America/New_York:20221111T123000
DTSTAMP:20260425T211820
CREATED:20230714T123232Z
LAST-MODIFIED:20230714T123232Z
UID:10001969-1668159000-1668169800@healthymindsphilly.org
SUMMARY:Ethics and Boundaries Training Sponsored by DBHIDS
DESCRIPTION:Join us in-person at: \nMental Health Partnerships\nTraining Room\n833 Chestnut Street\, Suite 1100\nPhiladelphia\, PA 19107 \nThis training\, adapted to address Peer’s particular needs while working remotely\, is intended to support staff in developing and maintaining appropriate boundaries in service provision\, and explore and clarify ethical dilemmas. Participants will explore power and privilege and how these differentials affect our work. Participants will practice assessing decisions about boundaries and dual relationships. The Code of Ethical Conduct will be presented and participants will participate in interactive activities to support their learning experience and the implications of putting them into practice. This three-hour online experience will allow for question and answer\, group discussion\, activities and an evaluation. This 3-hour workshop fulfills the 3-hour CE requirement to maintain a CPS certification in the state of Pennsylvania.
URL:https://healthymindsphilly.org/dev/event/ethics-and-boundaries-training-sponsored-by-dbhids/
LOCATION:Mental Health Partnernships\, 833 Chestnut St Suite 1100\, Philadelphia\, PA\, 19107\, United States
CATEGORIES:Community,Event Registration,Mental Health,Peer Specialists,Training
ORGANIZER;CN="Mental Health Partnerships/Institute at MHP":MAILTO:recovery@mhasp.org
END:VEVENT
BEGIN:VEVENT
DTSTART;TZID=America/New_York:20221111T110000
DTEND;TZID=America/New_York:20221113T150000
DTSTAMP:20260425T211820
CREATED:20230714T123024Z
LAST-MODIFIED:20230714T123024Z
UID:10001968-1668164400-1668351600@healthymindsphilly.org
SUMMARY:46th Annual Philadelphia Museum of Art Craft Show
DESCRIPTION:This premier show and sale of contemporary craft and design includes 195 of the finest and most dynamic craft artists in the United States\, selected by an esteemed panel of craft experts. All work is for sale and the artists receive 100% of their sale proceeds. \nThe 2022 Show will be held in person at the Convention Center on November 11th to 13th\, with a Preview Party on Thursday\, November 10th. \nThe 46th annual Philadelphia Museum of Art Craft Show is organized and coordinated by Show Chair Melissa Clark and Show Manager Nancy O’Meara. \nCRAFT SHOW \nFriday\, November 11th\, 2022 from 11 AM – 7 PM NEW HOURS \nSaturday\, November 12th\, 2022 from 10 AM – 6 PM \nSunday\, November 13th\, 2022 from 10 AM – 5 PM \nURLs:\nTickets: https://go.evvnt.com/1396642-0?pid=9950\nFacebook: https://go.evvnt.com/1396642-2?pid=9950\nInstagram: https://go.evvnt.com/1396642-3?pid=9950\nTwitter: https://go.evvnt.com/1396642-4?pid=9950 \nCategory: Community | Fundraisers \nPrice:\nGeneral Admission: USD 20.00
URL:https://healthymindsphilly.org/dev/event/46th-annual-philadelphia-museum-of-art-craft-show/
LOCATION:Philadelphia Convention Center\, 1101 Arch Street\, Philadelphia\, PA\, 19107\, United States
CATEGORIES:Community
ATTACH;FMTTYPE=image/jpeg:https://healthymindsphilly.org/dev/wp-content/uploads/2023/07/1396642-768x407-1.jpg
ORGANIZER;CN="The Women's Committee of the Philadelphia Museum of Art":MAILTO:twcpma@philamuseum.org
END:VEVENT
END:VCALENDAR