BEGIN:VCALENDAR
VERSION:2.0
PRODID:-//Healthy Minds Philly® - ECPv6.15.18//NONSGML v1.0//EN
CALSCALE:GREGORIAN
METHOD:PUBLISH
X-ORIGINAL-URL:https://healthymindsphilly.org/dev
X-WR-CALDESC:Events for Healthy Minds Philly®
REFRESH-INTERVAL;VALUE=DURATION:PT1H
X-Robots-Tag:noindex
X-PUBLISHED-TTL:PT1H
BEGIN:VTIMEZONE
TZID:America/New_York
BEGIN:DAYLIGHT
TZOFFSETFROM:-0500
TZOFFSETTO:-0400
TZNAME:EDT
DTSTART:20210314T070000
END:DAYLIGHT
BEGIN:STANDARD
TZOFFSETFROM:-0400
TZOFFSETTO:-0500
TZNAME:EST
DTSTART:20211107T060000
END:STANDARD
BEGIN:DAYLIGHT
TZOFFSETFROM:-0500
TZOFFSETTO:-0400
TZNAME:EDT
DTSTART:20220313T070000
END:DAYLIGHT
BEGIN:STANDARD
TZOFFSETFROM:-0400
TZOFFSETTO:-0500
TZNAME:EST
DTSTART:20221106T060000
END:STANDARD
BEGIN:DAYLIGHT
TZOFFSETFROM:-0500
TZOFFSETTO:-0400
TZNAME:EDT
DTSTART:20230312T070000
END:DAYLIGHT
BEGIN:STANDARD
TZOFFSETFROM:-0400
TZOFFSETTO:-0500
TZNAME:EST
DTSTART:20231105T060000
END:STANDARD
END:VTIMEZONE
BEGIN:VEVENT
DTSTART;TZID=America/New_York:20221105T190000
DTEND;TZID=America/New_York:20221106T010000
DTSTAMP:20260425T180511
CREATED:20230714T122544Z
LAST-MODIFIED:20230714T122544Z
UID:10001966-1667674800-1667696400@healthymindsphilly.org
SUMMARY:Black Tie and Sneakers – Trauma Survivors Foundation Annual Gala
DESCRIPTION:The Trauma Survivors Foundation’s annual Black Tie and Sneaker Gala is back\, bigger and better than ever with a bit of a MASQUERADE twist. Dust off your best tuxedo and slip on your favorite pair of sneakers as you dress to impress for the event of the year. No high heels\, loafers or dress shoes allowed-this is a SNEAKERS ONLY affair all for a great cause. This will be a who’s who of invited guests and will sell out quick so get your tickets today! \nThe Tri-State Area’s top party band Kristen and the Noise will headline the entertainment with Philly’s very own beloved brass band\, Snacktime\, playing at the Cocktail Reception. Guests will enjoy 5 Hour Premium Open Bar with cocktails from local distilleries; gourmet food\, carving and dessert stations; Savor seriously delicious street food creations from eight globally-inspired culinary superstars who are some of Philadelphia’s most beloved chefs; live auction; grand raffle prize; silent auction; photo booth; and lots more! \nLive! Casino and Hotel in Philadelphia\, Pennsylvania on Saturday\, November 5th from 7PM-12AM \nFor more information about our charitable mission go to www.thetraumasurvivorsfoundation.com. \nTICKET INFORMATION \nCOCKTAIL RECEPTION TICKETS INCLUDE: \n1.5 Hour Sampling of Pennsylvania Craft Spirits from 7PM-830PM\nSavor Serious Delicious Street Food Creations from Eight Globally-Inspired Culinary Superstars\nLive and Silent Auctions\nRed Carpet Photo Booth Experience to savor your memories\nChances to Win Cash\, Vacations and Prizes!!\nSounds and Music by Snacktime\, Philly’s all-star brass band!! \nGALA TICKETS INCLUDE: \nEnjoy the Cocktail Party from 7PM-830PM and stay for the Main Event\nPremium Open Bar from 830PM-12AM\nIncredibly Lavish Raw Bar\nSumptuous Carving Stations and Some Culinary Surprises\nLive Music by one of the area’s Top Musical Groups\, Kristen and the Noise!!\nChances to Win Cash\, Caribbean Vacation Packages and Prizes Totaling Over $15\,000\nLive and Silent Auctions\nBest Sneakers Awards\nSpecial Guests\nGiant Video Screen and Party Favors\nRed Carpet Photo Booth Experience to savor your memories \nENTERTAINMENT \nThe Tri-State Area’s top party band Kristen and the Noise will headline the entertainment with Philly’s very own beloved brass band\, Snacktime\, playing at the Cocktail Reception. \nCUISINE \nJames Beard Award Nominated Chef Ange Branca – Sate Kampar – will lead several beloved Philadelphia chefs in a symphony of globally inspired culinary delights during the cocktail reception. The chefs will include: \nCote Tapia-Marmugi – Mole St. Baker\nJacob Trinh – Trinh Eats\nMargarita Perez – Cartagena Empanadas\nMelissa Fernando – Sri’s Company\nSarah Qi – Cake and Joe\nJulio and Mariana – Victoria (formally the Last Abuela)\nLOCATION \nThe all-new Live! Casino and Hotel Philadelphia is transforming the city’s Stadium District into an unrivaled destination for meetings\, weddings and events. Nestled in the heart of the Stadium District\, the only place in the country to take in the action from four major sports teams\, your guests will want to return year after year. \nLive ! Casino and Hotel\, 900 Packer Avenue\, Philadelphia\, PA 19148 \nCHARITY \nWe are committed to improving relationships in the Delaware Valley as well as supporting local charities. A portion of your ticket cost is tax-deductible. We are supporting two incredible Non-Profit Charitable Organizations: The Trauma Survivors Foundation and the Hospital Heroes Food Drive. \nREFUND AND CANCELLATION \nAll tickets purchased for The Black Tie and Sneakers Gala are final. This is a 21 + event. WE REPEAT\, ALL TICKET SALES ARE FINAL. THERE SHALL BE NO TICKET REFUNDS AND/OR TICKET EXCHANGES FOR FUTURE DATES OR EVENTS.
URL:https://healthymindsphilly.org/dev/event/black-tie-and-sneakers-trauma-survivors-foundation-annual-gala/
LOCATION:Live! Casino and Hotel Philadelphia\, 900 Packer Avenue\, Philadelphia\, PA\, 19148\, United States
CATEGORIES:Community
ATTACH;FMTTYPE=image/jpeg:https://healthymindsphilly.org/dev/wp-content/uploads/2023/07/1378192-768x295-1.jpg
ORGANIZER;CN="UpcomingEvents.com":MAILTO:info@upcomingevents.com
END:VEVENT
END:VCALENDAR