BEGIN:VCALENDAR
VERSION:2.0
PRODID:-//Healthy Minds Philly® - ECPv6.15.18//NONSGML v1.0//EN
CALSCALE:GREGORIAN
METHOD:PUBLISH
X-WR-CALNAME:Healthy Minds Philly®
X-ORIGINAL-URL:https://healthymindsphilly.org/dev
X-WR-CALDESC:Events for Healthy Minds Philly®
REFRESH-INTERVAL;VALUE=DURATION:PT1H
X-Robots-Tag:noindex
X-PUBLISHED-TTL:PT1H
BEGIN:VTIMEZONE
TZID:America/New_York
BEGIN:DAYLIGHT
TZOFFSETFROM:-0500
TZOFFSETTO:-0400
TZNAME:EDT
DTSTART:20210314T070000
END:DAYLIGHT
BEGIN:STANDARD
TZOFFSETFROM:-0400
TZOFFSETTO:-0500
TZNAME:EST
DTSTART:20211107T060000
END:STANDARD
BEGIN:DAYLIGHT
TZOFFSETFROM:-0500
TZOFFSETTO:-0400
TZNAME:EDT
DTSTART:20220313T070000
END:DAYLIGHT
BEGIN:STANDARD
TZOFFSETFROM:-0400
TZOFFSETTO:-0500
TZNAME:EST
DTSTART:20221106T060000
END:STANDARD
BEGIN:DAYLIGHT
TZOFFSETFROM:-0500
TZOFFSETTO:-0400
TZNAME:EDT
DTSTART:20230312T070000
END:DAYLIGHT
BEGIN:STANDARD
TZOFFSETFROM:-0400
TZOFFSETTO:-0500
TZNAME:EST
DTSTART:20231105T060000
END:STANDARD
END:VTIMEZONE
BEGIN:VEVENT
DTSTART;TZID=America/New_York:20221102T100000
DTEND;TZID=America/New_York:20221102T110000
DTSTAMP:20260425T180353
CREATED:20230714T121738Z
LAST-MODIFIED:20230714T121738Z
UID:10001962-1667383200-1667386800@healthymindsphilly.org
SUMMARY:Yoga for Cancer and Chronic Disease
DESCRIPTION:Mindful Movement and Meditation \nHosted by the University of Pennsylvania Health System for patients of the Department of Radiation Oncology at Perelman Center for Advanced Medicine. This is an all-levels yoga class that includes guided mindfulness meditation with yoga movement. \nAudience: Caregivers\, Patients\, Other \nSponsor: Abramson Cancer Center \nJOIN US:\nWednesday November 2nd\, 2022\nTime: 10:00 – 11:00 AM EST \nThis class is open to all Penn Medicine cancer patients\, survivors\, and their family. Please contact your Penn Medicine team for the link to join.
URL:https://healthymindsphilly.org/dev/event/yoga-for-cancer-and-chronic-disease-2/
LOCATION:Online\, United States
CATEGORIES:Self Care
ORGANIZER;CN="Jessica Pavelka Counseling":MAILTO:hello@jessicapavelkacounseling.com
END:VEVENT
BEGIN:VEVENT
DTSTART;TZID=America/New_York:20221102T183000
DTEND;TZID=America/New_York:20221102T203000
DTSTAMP:20260425T180353
CREATED:20230714T122024Z
LAST-MODIFIED:20230714T122024Z
UID:10001964-1667413800-1667421000@healthymindsphilly.org
SUMMARY:Social Emotional Learning
DESCRIPTION:Saint Andrew’s United Women in Faith Fall Program! FREE!\n“Social Emotional Learning: How we can help our Children!”\nWed. Nov 2\, 6:30 – 8:30 PM\nat St. Andrews United Methodist Church\, 327 Marlton Pike West\, Cherry Hill NJ. \nWhat is Social Emotional Learning (SEL) and why is it important? SEL methodology helps students of all ages to understand their emotions\, develop\nself-confidence and self-direction\, and build positive social relationships by promoting healthy social/emotional development.\nPresented by Jonelle Schnepper\, Montclair State University. \nFREE! ALL ARE WELCOME. NO RESERVATION REQUIRED.\nAn excellent opportunity for parents\, caregivers and teachers of preschool age children! \nZoom option is also available at the below link:\nhttps://us02web.zoom.us/j/81042335485?pwd=TkRWNTZOcXErRkk1TmNtQmJOZE5iQT09
URL:https://healthymindsphilly.org/dev/event/social-emotional-learning/
LOCATION:St Andrews United Methodist Church\, 327 Marlton Pike W\, Cherry Hill\, NJ\, 08002\, United States
CATEGORIES:Community,Family,Youth
ORGANIZER;CN="Connie Di Rocco":MAILTO:conniedirocco@verizon.net
END:VEVENT
BEGIN:VEVENT
DTSTART;TZID=America/New_York:20221102T200000
DTEND;TZID=America/New_York:20221102T213000
DTSTAMP:20260425T180353
CREATED:20230714T122311Z
LAST-MODIFIED:20230714T122311Z
UID:10001965-1667419200-1667424600@healthymindsphilly.org
SUMMARY:Azuka Theatre presents “a hit dog will holler”
DESCRIPTION:directed by Reva Stover\nstarring Jessica Johnson and Adaeze Nwoko \nA popular online political and social commentator is forced to examine her own legitimacy when agoraphobia prevents her from physically engaging in the very activism she boasts about online. When a boots-on-the-ground community organizer invades her space\, they must both deal with fears arising from existing in America while Black. Is it just in their heads\, or has the monster come to their doorstep? \nAll performances are Pay What You Decide AFTER you see the show! \nTickets: https://go.evvnt.com/1364379-0?pid=9950 \nCategory: Arts | Performing Arts | Theatre \nPrice:\nGeneral Admission – Pay What You Decide: USD 0.00
URL:https://healthymindsphilly.org/dev/event/azuka-theatre-presents-a-hit-dog-will-holler/
LOCATION:Louis Bluver Theatre\, 302 South Hicks Street\, Philadelphia\, PA\, 19102\, United States
CATEGORIES:Entertainment
ATTACH;FMTTYPE=image/jpeg:https://healthymindsphilly.org/dev/wp-content/uploads/2023/07/1364379-768x432-1.jpg
ORGANIZER;CN="Azuka Theatre":MAILTO:boxoffice@azukatheatre.org
END:VEVENT
END:VCALENDAR