BEGIN:VCALENDAR
VERSION:2.0
PRODID:-//Healthy Minds Philly® - ECPv6.15.18//NONSGML v1.0//EN
CALSCALE:GREGORIAN
METHOD:PUBLISH
X-ORIGINAL-URL:https://healthymindsphilly.org/dev
X-WR-CALDESC:Events for Healthy Minds Philly®
REFRESH-INTERVAL;VALUE=DURATION:PT1H
X-Robots-Tag:noindex
X-PUBLISHED-TTL:PT1H
BEGIN:VTIMEZONE
TZID:America/New_York
BEGIN:DAYLIGHT
TZOFFSETFROM:-0500
TZOFFSETTO:-0400
TZNAME:EDT
DTSTART:20210314T070000
END:DAYLIGHT
BEGIN:STANDARD
TZOFFSETFROM:-0400
TZOFFSETTO:-0500
TZNAME:EST
DTSTART:20211107T060000
END:STANDARD
BEGIN:DAYLIGHT
TZOFFSETFROM:-0500
TZOFFSETTO:-0400
TZNAME:EDT
DTSTART:20220313T070000
END:DAYLIGHT
BEGIN:STANDARD
TZOFFSETFROM:-0400
TZOFFSETTO:-0500
TZNAME:EST
DTSTART:20221106T060000
END:STANDARD
BEGIN:DAYLIGHT
TZOFFSETFROM:-0500
TZOFFSETTO:-0400
TZNAME:EDT
DTSTART:20230312T070000
END:DAYLIGHT
BEGIN:STANDARD
TZOFFSETFROM:-0400
TZOFFSETTO:-0500
TZNAME:EST
DTSTART:20231105T060000
END:STANDARD
END:VTIMEZONE
BEGIN:VEVENT
DTSTART;TZID=America/New_York:20221015T100000
DTEND;TZID=America/New_York:20221015T130000
DTSTAMP:20260426T002812
CREATED:20230714T134059Z
LAST-MODIFIED:20230714T134059Z
UID:10002003-1665828000-1665838800@healthymindsphilly.org
SUMMARY:Congressman Dwight Evans Annual Federal Services Fair
DESCRIPTION:Congressman Dwight Evans (D-PA-3rd) will host his annual Federal Services Fair for constituents from 10 a.m. to 1 p.m. Saturday\, Oct. 15 at the Mann Center for the Performing Arts\, 5201 Parkside Ave. \n“This is our yearly one-stop shop where you can learn about available resources and programs\, as well as job opportunities\, from several federal\, state and local agencies.” There will be health screenings and a variety of resources available. Behavioral health screenings will be provided by Einstein Behavioral Health.
URL:https://healthymindsphilly.org/dev/event/congressman-dwight-evans-annual-federal-services-fair/
LOCATION:Mann Music Center\, 5201 Parkside Avenue\, Philadelphia\, PA\, 19131\, United States
CATEGORIES:Community,Mental Health,Screening,Self Care
END:VEVENT
BEGIN:VEVENT
DTSTART;TZID=America/New_York:20221015T100000
DTEND;TZID=America/New_York:20221015T150000
DTSTAMP:20260426T002812
CREATED:20230714T134231Z
LAST-MODIFIED:20230714T134231Z
UID:10002004-1665828000-1665846000@healthymindsphilly.org
SUMMARY:GPASS’ 21ST ANNUAL HEALTH FAIR
DESCRIPTION:JOIN US FOR:\nFREE GIVE AWAYS\,\nFREE GROCERIES\nFREE HIV TESTING\nMENTAL HEALTH SCREENING\nSUBSTANCE USE SCREENING\nDENTAL AND MEDICAL SCREENINGS\nCOVID 19 BOOSTERS\, TESTING AND EDUCATION\nMEDICAID/MEDICARE ASSISTANCE\nHOUSING RESOURCES\nAFRICAN ART DISPLAY
URL:https://healthymindsphilly.org/dev/event/gpass-21st-annual-health-fair/
LOCATION:Online\, United States
CATEGORIES:Community
ATTACH;FMTTYPE=image/jpeg:https://healthymindsphilly.org/dev/wp-content/uploads/2023/07/GPASS-FLYER-IMG-0969-4-768x991-1.jpg
ORGANIZER;CN="GPASS":MAILTO:gpass.center@gpasspa.org0
END:VEVENT
BEGIN:VEVENT
DTSTART;TZID=America/New_York:20221015T110000
DTEND;TZID=America/New_York:20221015T150000
DTSTAMP:20260426T002812
CREATED:20230714T134337Z
LAST-MODIFIED:20230714T134337Z
UID:10002005-1665831600-1665846000@healthymindsphilly.org
SUMMARY:kimchi festival
DESCRIPTION:The Kimchi festival is one-day cross-cultural culinary discovery with Korean food as the star. This vibrant community festival will explore the most effective ways to make food ‘go with one’s heart’. Kimchi22 will serve up a feast of ideas to spice up Philadelphia through Kimchi. The event is open to all ages. \nEnjoy food\, live entertainment\, local crafts and games. \nKirkbride Behavioral Health will join and will provide free Behavioral Health Screenings.
URL:https://healthymindsphilly.org/dev/event/kimchi-festival/
LOCATION:Love Park\, 1501 JFK Blvd.\, Philadelphia\, PA\, 19102\, United States
CATEGORIES:Community,Entertainment,Screening
ORGANIZER;CN="DBHIDS":MAILTO:gabriel.bryant@phila.gov
END:VEVENT
BEGIN:VEVENT
DTSTART;TZID=America/New_York:20221015T110000
DTEND;TZID=America/New_York:20221015T150000
DTSTAMP:20260426T002812
CREATED:20230714T134524Z
LAST-MODIFIED:20230714T134524Z
UID:10002006-1665831600-1665846000@healthymindsphilly.org
SUMMARY:Frankford Adult Resource Fair
DESCRIPTION:On Saturday\, October 15 from 11AM to 3PM we are bringing out local and city wide organizations offering educational\, financial\, health and wellness resources for adults\, youth and families. Connect with resources\, programs and services that will help your entire family. Enjoy activities for all ages from Seniors to Kids. \nComhar will provide behavioral health screenings.
URL:https://healthymindsphilly.org/dev/event/frankford-adult-resource-fair/
LOCATION:4373 Paul St\, 4373 Pault St\, Philadelphia\, PA\, 19124\, United States
CATEGORIES:Community,Screening
END:VEVENT
BEGIN:VEVENT
DTSTART;TZID=America/New_York:20221015T120000
DTEND;TZID=America/New_York:20221015T160000
DTSTAMP:20260426T002812
CREATED:20230714T134642Z
LAST-MODIFIED:20230714T134642Z
UID:10002007-1665835200-1665849600@healthymindsphilly.org
SUMMARY:Making a Difference/Neighborhood Community Fair
DESCRIPTION:Criminal Record Review\, Voter Registration\, Opportunities for Employment\, Link to Medical and Social Services\, Giveaways\, Free Cell Phone Enrollment with ID and Proof of Income or Government Program \nJFK will be providing behavioral health screenings
URL:https://healthymindsphilly.org/dev/event/making-a-difference-neighborhood-community-fair/
LOCATION:Church of the Advocate\, 18th & Diamond\, Philadelphia\, PA\, 19121\, United States
CATEGORIES:Community
ORGANIZER;CN="Philadelphia FIGHT":MAILTO:darryl.roberts@phila.gov
END:VEVENT
BEGIN:VEVENT
DTSTART;TZID=America/New_York:20221015T120000
DTEND;TZID=America/New_York:20221015T170000
DTSTAMP:20260426T002812
CREATED:20230713T140650Z
LAST-MODIFIED:20230713T140650Z
UID:10001462-1665835200-1665853200@healthymindsphilly.org
SUMMARY:Saturday Afternoon Respite
DESCRIPTION:Caring for a child with behavioral health needs can be demanding. Take a break. Respite care is short-term care for children ages 6-17. Children with a behavioral health diagnosis are eligible for short-term care.
URL:https://healthymindsphilly.org/dev/event/saturday-afternoon-respite-2/2022-10-15/
LOCATION:Shane Victorino Nicetown Boys & Girls Club\, 1721 West Hunting Park Ave\, Philadelphia\, PA\, 19140\, United States
CATEGORIES:Caregiving,Community,Family,Youth
ATTACH;FMTTYPE=image/jpeg:https://healthymindsphilly.org/dev/wp-content/uploads/2023/07/respite.jpg
ORGANIZER;CN="DBHIDS":MAILTO:gabriel.bryant@phila.gov
END:VEVENT
END:VCALENDAR