BEGIN:VCALENDAR
VERSION:2.0
PRODID:-//Healthy Minds Philly® - ECPv6.15.18//NONSGML v1.0//EN
CALSCALE:GREGORIAN
METHOD:PUBLISH
X-WR-CALNAME:Healthy Minds Philly®
X-ORIGINAL-URL:https://healthymindsphilly.org/dev
X-WR-CALDESC:Events for Healthy Minds Philly®
REFRESH-INTERVAL;VALUE=DURATION:PT1H
X-Robots-Tag:noindex
X-PUBLISHED-TTL:PT1H
BEGIN:VTIMEZONE
TZID:America/New_York
BEGIN:DAYLIGHT
TZOFFSETFROM:-0500
TZOFFSETTO:-0400
TZNAME:EDT
DTSTART:20210314T070000
END:DAYLIGHT
BEGIN:STANDARD
TZOFFSETFROM:-0400
TZOFFSETTO:-0500
TZNAME:EST
DTSTART:20211107T060000
END:STANDARD
BEGIN:DAYLIGHT
TZOFFSETFROM:-0500
TZOFFSETTO:-0400
TZNAME:EDT
DTSTART:20220313T070000
END:DAYLIGHT
BEGIN:STANDARD
TZOFFSETFROM:-0400
TZOFFSETTO:-0500
TZNAME:EST
DTSTART:20221106T060000
END:STANDARD
BEGIN:DAYLIGHT
TZOFFSETFROM:-0500
TZOFFSETTO:-0400
TZNAME:EDT
DTSTART:20230312T070000
END:DAYLIGHT
BEGIN:STANDARD
TZOFFSETFROM:-0400
TZOFFSETTO:-0500
TZNAME:EST
DTSTART:20231105T060000
END:STANDARD
END:VTIMEZONE
BEGIN:VEVENT
DTSTART;TZID=America/New_York:20221009T100000
DTEND;TZID=America/New_York:20221009T110000
DTSTAMP:20260426T002432
CREATED:20230714T135501Z
LAST-MODIFIED:20230714T135501Z
UID:10002011-1665309600-1665313200@healthymindsphilly.org
SUMMARY:Yoga With the Goats
DESCRIPTION:This 60 minute Yoga Experience will be with LIVE Goats. You will practice yoga\, get loved on by friendly\, sweet\, socialized goats at the same time. 100% of the proceeds from this fundraiser will benefit The Empath Project. To learn more about our charity please visit this link: https://mlahvet.com/the-empath-project/
URL:https://healthymindsphilly.org/dev/event/yoga-with-the-goats/
LOCATION:Medford Freedom Park\, 86 Union St\, Medford\, 08055\, United States
CATEGORIES:Self Care
END:VEVENT
END:VCALENDAR