BEGIN:VCALENDAR
VERSION:2.0
PRODID:-//Healthy Minds Philly® - ECPv6.15.18//NONSGML v1.0//EN
CALSCALE:GREGORIAN
METHOD:PUBLISH
X-ORIGINAL-URL:https://healthymindsphilly.org/dev
X-WR-CALDESC:Events for Healthy Minds Philly®
REFRESH-INTERVAL;VALUE=DURATION:PT1H
X-Robots-Tag:noindex
X-PUBLISHED-TTL:PT1H
BEGIN:VTIMEZONE
TZID:America/New_York
BEGIN:DAYLIGHT
TZOFFSETFROM:-0500
TZOFFSETTO:-0400
TZNAME:EDT
DTSTART:20210314T070000
END:DAYLIGHT
BEGIN:STANDARD
TZOFFSETFROM:-0400
TZOFFSETTO:-0500
TZNAME:EST
DTSTART:20211107T060000
END:STANDARD
BEGIN:DAYLIGHT
TZOFFSETFROM:-0500
TZOFFSETTO:-0400
TZNAME:EDT
DTSTART:20220313T070000
END:DAYLIGHT
BEGIN:STANDARD
TZOFFSETFROM:-0400
TZOFFSETTO:-0500
TZNAME:EST
DTSTART:20221106T060000
END:STANDARD
BEGIN:DAYLIGHT
TZOFFSETFROM:-0500
TZOFFSETTO:-0400
TZNAME:EDT
DTSTART:20230312T070000
END:DAYLIGHT
BEGIN:STANDARD
TZOFFSETFROM:-0400
TZOFFSETTO:-0500
TZNAME:EST
DTSTART:20231105T060000
END:STANDARD
END:VTIMEZONE
BEGIN:VEVENT
DTSTART;TZID=America/New_York:20221005T090000
DTEND;TZID=America/New_York:20221005T120000
DTSTAMP:20260426T002551
CREATED:20230714T140146Z
LAST-MODIFIED:20230714T140146Z
UID:10002016-1664960400-1664971200@healthymindsphilly.org
SUMMARY:CPS Supervisor's Virtual Training
DESCRIPTION:This 12-hour course lays the foundation of Supervision in a Peer Support Environment\, grounded in understanding of CPS roles and Recovery Values. This course includes SAMHSA’s Core Competencies of Peer Support\, OMHSAS Standards of Supervision for Peer Support\, Kadushin’s Social Work model on the Functions of Supervision\, Reflective Supervision basics\, and examines Trauma-informed principles in a supervisory context. \nThis course has been approved for continuing education units through the National Association of Social Work- PA Chapter. Facilitators utilize various virtual engagement methods to ensure participants take full advantage of this interactive and skill-building course. \nSponsored by DBHIDS
URL:https://healthymindsphilly.org/dev/event/cps-supervisors-virtual-training/2022-10-05/
LOCATION:DBHIDS Sponsored CPS Continuing Education Class
CATEGORIES:Mental Health,Peer Specialists,Training,Webinar
ATTACH;FMTTYPE=image/jpeg:https://healthymindsphilly.org/dev/wp-content/uploads/2023/07/CPS-Supervisor-768x758-1.jpg
ORGANIZER;CN="Mental Health Partnerships/Institute at MHP":MAILTO:recovery@mhasp.org
END:VEVENT
END:VCALENDAR